BEGIN:VCALENDAR
VERSION:2.0
PRODID:-//Base Scout Rosa dei Venti//NONSGML kigkonsult.se iCalcreator 2.30
 .10//
CALSCALE:GREGORIAN
METHOD:PUBLISH
UID:93f030a0-db76-44a1-9513-efad93162810
X-WR-CALNAME:iCagenda
X-WR-CALDESC:Event Management Extension for Joomla!
X-WR-RELCALID:3E26604A-50F4-4449-8B3E-E4F4932D05B5
X-WR-TIMEZONE:Europe/Rome
BEGIN:VTIMEZONE
TZID:Europe/Rome
BEGIN:STANDARD
TZNAME:CET
DTSTART:20231029T030000
TZOFFSETFROM:+0200
TZOFFSETTO:+0100
RDATE:20241027T030000
END:STANDARD
BEGIN:DAYLIGHT
TZNAME:CEST
DTSTART:20240331T020000
TZOFFSETFROM:+0100
TZOFFSETTO:+0200
RDATE:20250330T020000
END:DAYLIGHT
END:VTIMEZONE
BEGIN:VEVENT
UID:2ec60388-918e-44d1-8f01-9e91ed46c747
DTSTAMP:20260426T041902Z
CATEGORIES:Campo Scout Confermato
CLASS:PUBLIC
DESCRIPTION:
DTSTART:20240424T140000Z
DTEND:20240425T150000Z
GEO:00;0
LOCATION:
ORGANIZER:
SEQUENCE:1
SUMMARY:Comunità R/S Taranto 18
TRANSP:OPAQUE
URL:https://www.basescoutrosadeiventi.it/it/component/icagenda/61-comunit%C
 3%A0-r-s-taranto-18.html
END:VEVENT
END:VCALENDAR
