BEGIN:VCALENDAR
VERSION:2.0
PRODID:-//Base Scout Rosa dei Venti//NONSGML kigkonsult.se iCalcreator 2.30
 .10//
CALSCALE:GREGORIAN
METHOD:PUBLISH
UID:ef842f19-992c-4033-8908-6f803ac2d8d4
X-WR-CALNAME:iCagenda
X-WR-CALDESC:Event Management Extension for Joomla!
X-WR-RELCALID:3E26604A-50F4-4449-8B3E-E4F4932D05B5
X-WR-TIMEZONE:Europe/Rome
BEGIN:VTIMEZONE
TZID:Europe/Rome
BEGIN:STANDARD
TZNAME:CET
DTSTART:20231029T030000
TZOFFSETFROM:+0200
TZOFFSETTO:+0100
RDATE:20241027T030000
END:STANDARD
BEGIN:DAYLIGHT
TZNAME:CEST
DTSTART:20240331T020000
TZOFFSETFROM:+0100
TZOFFSETTO:+0200
RDATE:20250330T020000
END:DAYLIGHT
END:VTIMEZONE
BEGIN:VEVENT
UID:95466402-72d9-4588-9d96-90f2ddb06d3b
DTSTAMP:20260426T041902Z
CATEGORIES:Campo Scout Confermato
CLASS:PUBLIC
DESCRIPTION:
DTSTART:20240413T161000Z
DTEND:20240414T161000Z
GEO:00;0
LOCATION:
ORGANIZER:
SEQUENCE:1
SUMMARY:Reparto Massafra 1
TRANSP:OPAQUE
URL:https://www.basescoutrosadeiventi.it/it/component/icagenda/60-reparto-m
 assafra-1.html
END:VEVENT
END:VCALENDAR
