BEGIN:VCALENDAR
VERSION:2.0
PRODID:-//Base Scout Rosa dei Venti//NONSGML kigkonsult.se iCalcreator 2.30
 .10//
CALSCALE:GREGORIAN
METHOD:PUBLISH
UID:83c7f5ec-3357-4aea-9818-67a5c42b5520
X-WR-CALNAME:iCagenda
X-WR-CALDESC:Event Management Extension for Joomla!
X-WR-RELCALID:3E26604A-50F4-4449-8B3E-E4F4932D05B5
X-WR-TIMEZONE:Europe/Rome
BEGIN:VTIMEZONE
TZID:Europe/Rome
BEGIN:STANDARD
TZNAME:CET
DTSTART:20231029T030000
TZOFFSETFROM:+0200
TZOFFSETTO:+0100
RDATE:20241027T030000
RDATE:20251026T030000
END:STANDARD
BEGIN:DAYLIGHT
TZNAME:CEST
DTSTART:20240331T020000
TZOFFSETFROM:+0100
TZOFFSETTO:+0200
RDATE:20250330T020000
END:DAYLIGHT
END:VTIMEZONE
BEGIN:VEVENT
UID:a10b1f75-37b4-471c-853d-0837f199e2df
DTSTAMP:20260426T042132Z
CATEGORIES:Campo Scout Confermato
CLASS:PUBLIC
DESCRIPTION:
DTSTART:20240427T180000Z
DTEND:20240428T180100Z
GEO:00;0
LOCATION:
ORGANIZER:
SEQUENCE:1
SUMMARY:BASE PRENOTATA
TRANSP:OPAQUE
URL:https://www.basescoutrosadeiventi.it/it/component/icagenda/49-S.Giorgio
 %20zona%20Gravine%20Joniche.html
END:VEVENT
END:VCALENDAR
