BEGIN:VCALENDAR
VERSION:2.0
PRODID:-//Base Scout Rosa dei Venti//NONSGML kigkonsult.se iCalcreator 2.30
 .10//
CALSCALE:GREGORIAN
METHOD:PUBLISH
UID:36fde23d-4f9b-474b-948f-c144dea654ea
X-WR-CALNAME:iCagenda
X-WR-CALDESC:Event Management Extension for Joomla!
X-WR-RELCALID:3E26604A-50F4-4449-8B3E-E4F4932D05B5
X-WR-TIMEZONE:Europe/Rome
BEGIN:VTIMEZONE
TZID:Europe/Rome
BEGIN:STANDARD
TZNAME:CET
DTSTART:20241027T030000
TZOFFSETFROM:+0200
TZOFFSETTO:+0100
RDATE:20251026T030000
RDATE:20261025T030000
END:STANDARD
BEGIN:DAYLIGHT
TZNAME:CEST
DTSTART:20250330T020000
TZOFFSETFROM:+0100
TZOFFSETTO:+0200
RDATE:20260329T020000
END:DAYLIGHT
END:VTIMEZONE
BEGIN:VEVENT
UID:0d6ef569-bc45-4611-9697-5d0920fe57c4
DTSTAMP:20260421T100535Z
CATEGORIES:Campo Scout Confermato
CLASS:PUBLIC
DESCRIPTION:
DTSTART:20250706T061900Z
DTEND:20250713T151900Z
GEO:00;0
LOCATION:
ORGANIZER:
SEQUENCE:1
SUMMARY:Porto Cesario 1
TRANSP:OPAQUE
URL:https://www.basescoutrosadeiventi.it/it/calendario/83-porto-cesario-1.h
 tml
END:VEVENT
END:VCALENDAR
